BEGIN:VCALENDAR
VERSION:2.0
PRODID:-//Heidelberg Country Club - ECPv6.15.6//NONSGML v1.0//EN
CALSCALE:GREGORIAN
METHOD:PUBLISH
X-ORIGINAL-URL:https://hbergcc.com
X-WR-CALDESC:Events for Heidelberg Country Club
REFRESH-INTERVAL;VALUE=DURATION:PT1H
X-Robots-Tag:noindex
X-PUBLISHED-TTL:PT1H
BEGIN:VTIMEZONE
TZID:UTC
BEGIN:STANDARD
TZOFFSETFROM:+0000
TZOFFSETTO:+0000
TZNAME:UTC
DTSTART:20250101T000000
END:STANDARD
END:VTIMEZONE
BEGIN:VTIMEZONE
TZID:America/New_York
BEGIN:DAYLIGHT
TZOFFSETFROM:-0500
TZOFFSETTO:-0400
TZNAME:EDT
DTSTART:20250309T070000
END:DAYLIGHT
BEGIN:STANDARD
TZOFFSETFROM:-0400
TZOFFSETTO:-0500
TZNAME:EST
DTSTART:20251102T060000
END:STANDARD
BEGIN:DAYLIGHT
TZOFFSETFROM:-0500
TZOFFSETTO:-0400
TZNAME:EDT
DTSTART:20260308T070000
END:DAYLIGHT
BEGIN:STANDARD
TZOFFSETFROM:-0400
TZOFFSETTO:-0500
TZNAME:EST
DTSTART:20261101T060000
END:STANDARD
BEGIN:DAYLIGHT
TZOFFSETFROM:-0500
TZOFFSETTO:-0400
TZNAME:EDT
DTSTART:20270314T070000
END:DAYLIGHT
BEGIN:STANDARD
TZOFFSETFROM:-0400
TZOFFSETTO:-0500
TZNAME:EST
DTSTART:20271107T060000
END:STANDARD
END:VTIMEZONE
BEGIN:VEVENT
DTSTART;TZID=UTC:20260301T080000
DTEND;TZID=UTC:20260428T170000
DTSTAMP:20260424T035301
CREATED:20241113T205154Z
LAST-MODIFIED:20260302T174807Z
UID:15107-1772352000-1777395600@hbergcc.com
SUMMARY:Gift Cards for the Bar only
DESCRIPTION:The Heidelberg now has available Gift Cards for the Bar only. They are sold in Twenty-Five dollars increment’s $25.00 up to Five Hundred dollars $500.00. This will make a Great Christmas Gift\, Birthday Gift or any Special Occasion Gift. You can also use this Card to Purchase our new Heidelberg apparel Please ask any Bartender or Board member how to purchase this Great Gift.
URL:https://hbergcc.com/event/the-heidelberg-now-has-available-gift-cards-for-the-bar-only-they-are-sold-in-twenty-five-dollars-increments-25-00-up-to-five-hundred-dollars-500-00-this-will-make-a-great-christmas-gift-birthd/
CATEGORIES:On Home Page
ATTACH;FMTTYPE=image/jpeg:https://hbergcc.com/wp-content/uploads/2024/11/IMG_20241113_101251.jpg
END:VEVENT
BEGIN:VEVENT
DTSTART;TZID=America/New_York:20260401T080000
DTEND;TZID=America/New_York:20260430T220000
DTSTAMP:20260424T035301
CREATED:20251102T142651Z
LAST-MODIFIED:20260401T033356Z
UID:16268-1775030400-1777586400@hbergcc.com
SUMMARY:
DESCRIPTION:
URL:https://hbergcc.com/event/16268/
CATEGORIES:On Home Page
END:VEVENT
BEGIN:VEVENT
DTSTART;TZID=America/New_York:20260421T163000
DTEND;TZID=America/New_York:20260425T210000
DTSTAMP:20260424T035301
CREATED:20250922T234629Z
LAST-MODIFIED:20260419T222551Z
UID:16190-1776789000-1777150800@hbergcc.com
SUMMARY:Rob’s Catering/Grill At the Heidelberg
DESCRIPTION:
URL:https://hbergcc.com/event/robs-catering-grill-at-the-heidelberg-specials-for-the-week-9-23-9-27-25-heidelberg-event-in-parenthesis-tuesday-small-taco-stromboli-tacos-regular-taco-salad-or-edible-taco-bowl-smal/
CATEGORIES:On Home Page
ATTACH;FMTTYPE=image/png:https://hbergcc.com/wp-content/uploads/2025/08/Robs-logo-1.png
END:VEVENT
BEGIN:VEVENT
DTSTART;TZID=America/New_York:20260425T193000
DTEND;TZID=America/New_York:20260425T223000
DTSTAMP:20260424T035301
CREATED:20251123T190222Z
LAST-MODIFIED:20260420T194735Z
UID:16310-1777145400-1777156200@hbergcc.com
SUMMARY:Band Performance for 4/25/26!
DESCRIPTION:ROCK THE NIGHT AWAY!\n\n\nFeel the beat\, Join the fun! Join us this Saturday the 25th at 7:30PM. The Rocket Blasters will be at the club. We hope you plan your Saturday with us in mind! The public is welcome.\n\n\n*Just a reminder there is a $5 cover to be at the club after 6pm for the Public and a $3 cover for members who show their card*
URL:https://hbergcc.com/event/band-performance-for-11-29-25/
CATEGORIES:On Home Page
ATTACH;FMTTYPE=image/png:https://hbergcc.com/wp-content/uploads/2025/11/rocket-blasters-sat-425.png
END:VEVENT
BEGIN:VEVENT
DTSTART;TZID=UTC:20260511T150000
DTEND;TZID=UTC:20260511T210000
DTSTAMP:20260424T035301
CREATED:20240518T160924Z
LAST-MODIFIED:20260412T013812Z
UID:14461-1778511600-1778533200@hbergcc.com
SUMMARY:Military Plaque
DESCRIPTION:The Heidelberg has a Plaque at the Club with all our members who has served in the Military. On the 11th day of every Month\, we invite all these Veterans whose name is on this Plaque to have a Drink on us. We would also like to thank these Members for their Service.
URL:https://hbergcc.com/event/the-heidelberg-has-a-plaque-at-the-club-with-all-our-members-who-has-served-in-the-military-on-the-11th-day-of-every-month-we-invite-all-these-veterans-whose-name-is-on-this-plaque-to-have-a-drink-o/
CATEGORIES:On Home Page
ATTACH;FMTTYPE=image/png:https://hbergcc.com/wp-content/uploads/2024/05/Vets.png
END:VEVENT
BEGIN:VEVENT
DTSTART;TZID=America/New_York:20260520T190000
DTEND;TZID=America/New_York:20260520T210000
DTSTAMP:20260424T035301
CREATED:20250913T004343Z
LAST-MODIFIED:20260419T032130Z
UID:16172-1779303600-1779310800@hbergcc.com
SUMMARY:Bar Bingo
DESCRIPTION:On Wednesday April 15th we will be having Bar Bingo starting at 7PM. Win and get a Prize\, this will only be One Wednesday a Month and this event is free to play and always a lot of Fun. We need 20 or more participants to join in. This event is open to the Public.
URL:https://hbergcc.com/event/on-wednesday-september-17th-we-will-be-having-bar-bingo-starting-at-7pm-win-and-get-a-prize-this-will-only-be-one-wednesday-a-month-and-this-event-is-free-to-play-and-always-a-lot-of-fun-we-need-20/
CATEGORIES:On Home Page
ATTACH;FMTTYPE=image/png:https://hbergcc.com/wp-content/uploads/2025/09/Copilot_20260322_202112.png
END:VEVENT
END:VCALENDAR