BEGIN:VCALENDAR
VERSION:2.0
PRODID:-//Heidelberg Country Club - ECPv6.15.6//NONSGML v1.0//EN
CALSCALE:GREGORIAN
METHOD:PUBLISH
X-ORIGINAL-URL:https://hbergcc.com
X-WR-CALDESC:Events for Heidelberg Country Club
REFRESH-INTERVAL;VALUE=DURATION:PT1H
X-Robots-Tag:noindex
X-PUBLISHED-TTL:PT1H
BEGIN:VTIMEZONE
TZID:America/New_York
BEGIN:DAYLIGHT
TZOFFSETFROM:-0500
TZOFFSETTO:-0400
TZNAME:EDT
DTSTART:20250309T070000
END:DAYLIGHT
BEGIN:STANDARD
TZOFFSETFROM:-0400
TZOFFSETTO:-0500
TZNAME:EST
DTSTART:20251102T060000
END:STANDARD
BEGIN:DAYLIGHT
TZOFFSETFROM:-0500
TZOFFSETTO:-0400
TZNAME:EDT
DTSTART:20260308T070000
END:DAYLIGHT
BEGIN:STANDARD
TZOFFSETFROM:-0400
TZOFFSETTO:-0500
TZNAME:EST
DTSTART:20261101T060000
END:STANDARD
BEGIN:DAYLIGHT
TZOFFSETFROM:-0500
TZOFFSETTO:-0400
TZNAME:EDT
DTSTART:20270314T070000
END:DAYLIGHT
BEGIN:STANDARD
TZOFFSETFROM:-0400
TZOFFSETTO:-0500
TZNAME:EST
DTSTART:20271107T060000
END:STANDARD
END:VTIMEZONE
BEGIN:VTIMEZONE
TZID:UTC
BEGIN:STANDARD
TZOFFSETFROM:+0000
TZOFFSETTO:+0000
TZNAME:UTC
DTSTART:20240101T000000
END:STANDARD
END:VTIMEZONE
BEGIN:VEVENT
DTSTART;TZID=America/New_York:20260423T190000
DTEND;TZID=America/New_York:20260423T210000
DTSTAMP:20260424T051748
CREATED:20251114T034838Z
LAST-MODIFIED:20260419T031954Z
UID:15631-1776970800-1776978000@hbergcc.com
SUMMARY:Trivia Night
DESCRIPTION:Thursday Night is Trivia Night at the Berg. Come out and test your Skills against our Trivia Master\, this all starts at 7PM and you can Enjoy a Great Meal from Rob’s catering/Grill. This Event is open to the Public.
URL:https://hbergcc.com/event/thursday-night-is-trivia-night-at-the-berg-come-out-and-test-your-skills-against-our-trivia-master-this-all-starts-at-7pm-and-you-can-enjoy-a-great-meal-from-robs-catering-grill-the-public/
CATEGORIES:On Home Page
ATTACH;FMTTYPE=image/png:https://hbergcc.com/wp-content/uploads/2025/11/trivia-423.png
END:VEVENT
BEGIN:VEVENT
DTSTART;TZID=America/New_York:20260422T183000
DTEND;TZID=America/New_York:20260422T200000
DTSTAMP:20260424T051748
CREATED:20250708T210605Z
LAST-MODIFIED:20260419T032049Z
UID:16032-1776882600-1776888000@hbergcc.com
SUMMARY:Line Dancing with Steph!
DESCRIPTION:The Heidelberg Country Club invites everyone to join their weekly Line Dancing event with Stephanie every Wednesday from 6:30 PM to 8 PM. Please note Time Change. Admission is $10\, which includes soft drinks or bottled water\, and is open to both members and the Public. \n 
URL:https://hbergcc.com/event/the-heidelberg-is-happy-to-announce-that-beginning-wednesday-july-23rd-we-will-be-hosting-line-dancing-with-stephanie-on-wednesdays-from-6pm-to-730pm-admission-is-10-00-includes-soft-drinks-or-bot/
CATEGORIES:On Home Page
ATTACH;FMTTYPE=image/png:https://hbergcc.com/wp-content/uploads/2025/07/line-dancing-wed-422.png
END:VEVENT
BEGIN:VEVENT
DTSTART;TZID=UTC:20260421T180000
DTEND;TZID=UTC:20260421T190000
DTSTAMP:20260424T051748
CREATED:20240819T153525Z
LAST-MODIFIED:20260419T032234Z
UID:14762-1776794400-1776798000@hbergcc.com
SUMMARY:Country Store
DESCRIPTION:Come out to the Heidelberg on Tuesday and play Country Store the First Ticket is pulled at 6PM and is over when the last Bag is gone. There has been a Twist added to The Fun\, you may pick a Gag Gift or a High-End Gift. You can enjoy a Great Meal from Rob’s Catering/Grill and sit back and relax at one of the Friendliest Social Club’s in the Area. This Event is Open to the Public. \n 
URL:https://hbergcc.com/event/only-at-the-berg-come-out-every-tuesday-and-play-country-store-the-first-ticket-is-pulled-at-6pm-and-is-over-when-the-last-bag-is-gone-the-public-is-welcome-however-you-must-be-a-member-our-guest-o/
CATEGORIES:On Home Page
ATTACH;FMTTYPE=image/png:https://hbergcc.com/wp-content/uploads/2024/08/Country-Store-421.png
END:VEVENT
BEGIN:VEVENT
DTSTART;TZID=America/New_York:20260414T080000
DTEND;TZID=America/New_York:20260417T170000
DTSTAMP:20260424T051748
CREATED:20260314T032111Z
LAST-MODIFIED:20260419T033626Z
UID:16451-1776153600-1776445200@hbergcc.com
SUMMARY:Spring into Summer Ticket Winners!
DESCRIPTION:TICKET WINNERS FOR APRIL 14-17th \n4/13 – #1312 – B. Fagans \n4/14 – #2086 – T.Woleslagle \n4/15 – #1263 -J. DeGennaro \n4/16 – #3010 -A. Seasick \n4/17 – #1938 -J. Webster
URL:https://hbergcc.com/event/16451/
CATEGORIES:On Home Page
ATTACH;FMTTYPE=image/png:https://hbergcc.com/wp-content/uploads/2026/03/spring-into-summer-ends-May-22nd.png
END:VEVENT
BEGIN:VEVENT
DTSTART;TZID=America/New_York:20260201T080000
DTEND;TZID=America/New_York:20260316T233000
DTSTAMP:20260424T051748
CREATED:20251106T011607Z
LAST-MODIFIED:20260202T174114Z
UID:16282-1769932800-1773703800@hbergcc.com
SUMMARY:Apparel Ordering Site
DESCRIPTION:Visit apparel store
URL:https://hbergcc.com/event/apparel-ordering-site/
ATTACH;FMTTYPE=image/png:https://hbergcc.com/wp-content/uploads/2025/11/Screenshot-2025-10-14-at-11.59.16-AM.png
END:VEVENT
BEGIN:VEVENT
DTSTART;TZID=UTC:20260101T080000
DTEND;TZID=UTC:20260131T170000
DTSTAMP:20260424T051748
CREATED:20240904T165512Z
LAST-MODIFIED:20260112T021046Z
UID:14861-1767254400-1769878800@hbergcc.com
SUMMARY:Operating Hours
DESCRIPTION:Here are our new operating hours for the Heidelberg Bar and Rob’s Catering/Grille Starting September 8\, 2024.BAR HOURS are Monday thru Thursday 3 PM to 10PM. Friday 3PM to 11PM. Saturday 12PM to 11PM and Sunday 12PM to 10PM. Rob’s Catering/Grille Winter hours are\, Tuesday thru Friday 4PM to 9PM. Saturday and Sunday Hours may vary According to Football. Rob’s Catering/Grille is closed on Sunday & Monday. For Dinning Reservations or Event Rentals\, Catering or Takeout Orders please call 814-329-0578
URL:https://hbergcc.com/event/here-are-our-new-operating-hours-for-the-heidelberg-bar-and-robs-catering-grille-starting-september-8-2024-bar-hours-are-monday-thru-wednesday-3-pm-to-9pm-thursday-3pm-to-10pm-friday-3pm-t/
ATTACH;FMTTYPE=image/png:https://hbergcc.com/wp-content/uploads/2025/02/OATB.png
END:VEVENT
BEGIN:VEVENT
DTSTART;TZID=UTC:20251201T080000
DTEND;TZID=UTC:20260110T170000
DTSTAMP:20260424T051748
CREATED:20240821T131124Z
LAST-MODIFIED:20251113T013103Z
UID:14770-1764576000-1768064400@hbergcc.com
SUMMARY:Book your Event at the Heidelberg
DESCRIPTION:At the Heidelberg We have the Perfect Fix for any Event. You could have\, a Birthday Party\, Halloween Party\, Christmas Party\, and Employee events Party. We also have the Best Caterer with Rob’s Catering/Grille at the Heidelberg. Call Rob Today and Book your Event at 814-329-0578 Availability will fill up Fast. Grand Dining Room seating for 100\, Conway Room seating for 50; Grand Dining Room with Conway Room\, seating for 150; Hideaway Room (Downstairs bar area)\, seating for 70; Heidelberg Patio\, seats 70; Hideaway and patio\, seating for 140. (MEMBERS RECEIVE A 20% DISCOUNT)
URL:https://hbergcc.com/event/at-the-heidelberg-we-have-the-perfect-fix-for-any-event-you-could-have-a-birthday-party-halloween-party-christmas-party-and-employee-events-party-we-also-have-the-best-caterer-with-robs/
ATTACH;FMTTYPE=image/jpeg:https://hbergcc.com/wp-content/uploads/2024/08/IMG_20240819_203754.jpg
END:VEVENT
END:VCALENDAR